BEGIN:VCALENDAR
VERSION:2.0
PRODID:-//SKL-MQCM | ICMS | University of Macau - ECPv5.2.0//NONSGML v1.0//EN
CALSCALE:GREGORIAN
METHOD:PUBLISH
X-WR-CALNAME:SKL-MQCM | ICMS | University of Macau
X-ORIGINAL-URL:https://sklmqcm.um.edu.mo
X-WR-CALDESC:Events for SKL-MQCM | ICMS | University of Macau
BEGIN:VTIMEZONE
TZID:Asia/Macau
BEGIN:STANDARD
TZOFFSETFROM:+0800
TZOFFSETTO:+0800
TZNAME:CST
DTSTART:20240101T000000
END:STANDARD
END:VTIMEZONE
BEGIN:VEVENT
DTSTART;TZID=Asia/Macau:20241120T143000
DTEND;TZID=Asia/Macau:20241120T173000
DTSTAMP:20260426T033406
CREATED:20241118T013930Z
LAST-MODIFIED:20250319T010041Z
UID:27007-1732113000-1732123800@sklmqcm.um.edu.mo
SUMMARY:Mass Spectrometry-based Omics Solutions (Seminar by Thermo Fisher)
DESCRIPTION:此講座由賽默飛(Thermo Fisher)提供\, 以其目前最新的質譜技術(如Orbitrap\, QQQMS等)更新進展的簡介\, 為相關領域的研究者提出嶄新思路\, 特別是目前比較熱門的”組學”研究\, 歡迎各課題組有興趣以質譜為研究工具的同仁參加 \n2024-11-20UM_TCM_shared
URL:https://sklmqcm.um.edu.mo/event/20241120s/
LOCATION:N22-G002
CATEGORIES:Seminar and Conference,學術活動 (Conference and Seminar)
END:VEVENT
END:VCALENDAR