BEGIN:VCALENDAR
VERSION:2.0
PRODID:-//SKL-MQCM | ICMS | University of Macau - ECPv5.2.0//NONSGML v1.0//EN
CALSCALE:GREGORIAN
METHOD:PUBLISH
X-WR-CALNAME:SKL-MQCM | ICMS | University of Macau
X-ORIGINAL-URL:https://sklmqcm.um.edu.mo
X-WR-CALDESC:Events for SKL-MQCM | ICMS | University of Macau
BEGIN:VTIMEZONE
TZID:Asia/Macau
BEGIN:STANDARD
TZOFFSETFROM:+0800
TZOFFSETTO:+0800
TZNAME:CST
DTSTART:20240101T000000
END:STANDARD
END:VTIMEZONE
BEGIN:VEVENT
DTSTART;TZID=Asia/Macau:20241114T170000
DTEND;TZID=Asia/Macau:20241114T180000
DTSTAMP:20260425T120529
CREATED:20241211T012523Z
LAST-MODIFIED:20241211T013107Z
UID:27792-1731603600-1731607200@sklmqcm.um.edu.mo
SUMMARY:Global Perspectives Seminar Series: Excellence in Chinese Medicine and Natural Product Research
DESCRIPTION:
URL:https://sklmqcm.um.edu.mo/event/global-perspectives-seminar-series-excellence-in-chinese-medicine-and-natural-product-research/
CATEGORIES:Seminar and Conference,學術活動 (Conference and Seminar)
END:VEVENT
END:VCALENDAR