BEGIN:VCALENDAR
VERSION:2.0
PRODID:-//SKL-MQCM | ICMS | University of Macau - ECPv5.2.0//NONSGML v1.0//EN
CALSCALE:GREGORIAN
METHOD:PUBLISH
X-WR-CALNAME:SKL-MQCM | ICMS | University of Macau
X-ORIGINAL-URL:https://sklmqcm.um.edu.mo
X-WR-CALDESC:Events for SKL-MQCM | ICMS | University of Macau
BEGIN:VTIMEZONE
TZID:Asia/Macau
BEGIN:STANDARD
TZOFFSETFROM:+0800
TZOFFSETTO:+0800
TZNAME:CST
DTSTART:20260101T000000
END:STANDARD
END:VTIMEZONE
BEGIN:VEVENT
DTSTART;TZID=Asia/Macau:20260209T093000
DTEND;TZID=Asia/Macau:20260209T103000
DTSTAMP:20260426T111227
CREATED:20260209T020028Z
LAST-MODIFIED:20260209T020209Z
UID:35437-1770629400-1770633000@sklmqcm.um.edu.mo
SUMMARY:ICMS/SKLMQCM Distinguished Guest Seminar Series (2026-001): ‘Chemical Adaptation in Kinase Drug Discovery’ by Prof. Ke DING from State Key Laboratory of Chemical Biology Shanghai Institute of Organic Chemistry\, Chinese Academy of Sciences (CAS)
DESCRIPTION:
URL:https://sklmqcm.um.edu.mo/event/20260209e/
LOCATION:N22-G002
CATEGORIES:Seminar and Conference,學術活動 (Conference and Seminar)
END:VEVENT
END:VCALENDAR