BEGIN:VCALENDAR
VERSION:2.0
PRODID:-//SKL-MQCM | ICMS | University of Macau - ECPv5.2.0//NONSGML v1.0//EN
CALSCALE:GREGORIAN
METHOD:PUBLISH
X-WR-CALNAME:SKL-MQCM | ICMS | University of Macau
X-ORIGINAL-URL:https://sklmqcm.um.edu.mo
X-WR-CALDESC:Events for SKL-MQCM | ICMS | University of Macau
BEGIN:VTIMEZONE
TZID:Asia/Macau
BEGIN:STANDARD
TZOFFSETFROM:+0800
TZOFFSETTO:+0800
TZNAME:CST
DTSTART:20260101T000000
END:STANDARD
END:VTIMEZONE
BEGIN:VEVENT
DTSTART;TZID=Asia/Macau:20260413T090000
DTEND;TZID=Asia/Macau:20260413T163000
DTSTAMP:20260426T031748
CREATED:20260409T110922Z
LAST-MODIFIED:20260409T110922Z
UID:35995-1776070800-1776097800@sklmqcm.um.edu.mo
SUMMARY:Celebrating the 45th Anniversary of the University of Macau: Natural Products and Immunity
DESCRIPTION:
URL:https://sklmqcm.um.edu.mo/event/20260409e/
LOCATION:N22-G002
CATEGORIES:Seminar and Conference,學術活動 (Conference and Seminar)
END:VEVENT
END:VCALENDAR