BEGIN:VCALENDAR
VERSION:2.0
PRODID:-//SKL-MQCM | ICMS | University of Macau - ECPv5.2.0//NONSGML v1.0//EN
CALSCALE:GREGORIAN
METHOD:PUBLISH
X-WR-CALNAME:SKL-MQCM | ICMS | University of Macau
X-ORIGINAL-URL:https://sklmqcm.um.edu.mo/?lang=zh-hant
X-WR-CALDESC:Events for SKL-MQCM | ICMS | University of Macau
BEGIN:VTIMEZONE
TZID:Asia/Macau
BEGIN:STANDARD
TZOFFSETFROM:+0800
TZOFFSETTO:+0800
TZNAME:CST
DTSTART:20260101T000000
END:STANDARD
END:VTIMEZONE
BEGIN:VEVENT
DTSTART;TZID=Asia/Macau:20260413T090000
DTEND;TZID=Asia/Macau:20260413T163000
DTSTAMP:20260426T112101
CREATED:20260409T111152Z
LAST-MODIFIED:20260409T111152Z
UID:36007-1776070800-1776097800@sklmqcm.um.edu.mo
SUMMARY:慶祝澳門大學45周年校慶 ── 天然產物與免疫研討會
DESCRIPTION:
URL:https://sklmqcm.um.edu.mo/event/%e6%85%b6%e7%a5%9d%e6%be%b3%e9%96%80%e5%a4%a7%e5%ad%b845%e5%91%a8%e5%b9%b4%e6%a0%a1%e6%85%b6-%e2%94%80%e2%94%80-%e5%a4%a9%e7%84%b6%e7%94%a2%e7%89%a9%e8%88%87%e5%85%8d%e7%96%ab%e7%a0%94%e8%a8%8e/?lang=zh-hant
LOCATION:N22-G002
CATEGORIES:Seminar and Conference,學術活動 (Conference and Seminar)
END:VEVENT
END:VCALENDAR